BEGIN:VCALENDAR
VERSION:2.0
PRODID:-//Mercy in Motion - ECPv6.15.20//NONSGML v1.0//EN
CALSCALE:GREGORIAN
METHOD:PUBLISH
X-WR-CALNAME:Mercy in Motion
X-ORIGINAL-URL:https://mercyinmotionhonduras.com
X-WR-CALDESC:Events for Mercy in Motion
REFRESH-INTERVAL;VALUE=DURATION:PT1H
X-Robots-Tag:noindex
X-PUBLISHED-TTL:PT1H
BEGIN:VTIMEZONE
TZID:UTC
BEGIN:STANDARD
TZOFFSETFROM:+0000
TZOFFSETTO:+0000
TZNAME:UTC
DTSTART:20220101T000000
END:STANDARD
END:VTIMEZONE
BEGIN:VEVENT
DTSTART;TZID=UTC:20231021T090000
DTEND;TZID=UTC:20231021T103000
DTSTAMP:20260420T040408
CREATED:20231021T152612Z
LAST-MODIFIED:20231021T152612Z
UID:1301-1697878800-1697884200@mercyinmotionhonduras.com
SUMMARY:New Website Launched
DESCRIPTION:Paul has launched a new website!
URL:https://mercyinmotionhonduras.com/event/new-website-launched/
CATEGORIES:Bible Study
ATTACH;FMTTYPE=image/jpeg:https://mercyinmotionhonduras.com/wp-content/uploads/2023/09/326.jpg
END:VEVENT
END:VCALENDAR